BEGIN:VCALENDAR
VERSION:2.0
PRODID:-//The Glen Hotel - ECPv6.15.17.1//NONSGML v1.0//EN
CALSCALE:GREGORIAN
METHOD:PUBLISH
X-WR-CALNAME:The Glen Hotel
X-ORIGINAL-URL:https://www.glenhotel.com.au
X-WR-CALDESC:Events for The Glen Hotel
REFRESH-INTERVAL;VALUE=DURATION:PT1H
X-Robots-Tag:noindex
X-PUBLISHED-TTL:PT1H
BEGIN:VTIMEZONE
TZID:Australia/Brisbane
BEGIN:STANDARD
TZOFFSETFROM:+1000
TZOFFSETTO:+1000
TZNAME:AEST
DTSTART:20250101T000000
END:STANDARD
END:VTIMEZONE
BEGIN:VEVENT
DTSTART;TZID=Australia/Brisbane:20260621T120000
DTEND;TZID=Australia/Brisbane:20260621T160000
DTSTAMP:20260420T212832
CREATED:20260415T001205Z
LAST-MODIFIED:20260415T001205Z
UID:10001946-1782043200-1782057600@www.glenhotel.com.au
SUMMARY:Nik Phillips
DESCRIPTION:Nik Phillips brings a laid-back kind of magic to a Sunday session. A true Australian storyteller\, he blends pop/rock\, alt-country\, and modern coastal grit into songs that feel lived-in and real. \nWith warm vocals and an easy\, grounded presence\, his sets roll out like a soundtrack to long lunches and slow afternoons. Honest\, melodic\, and unmistakably homegrown\, Nik captures contemporary Aussie life with heart and edge. \nBook your table  and enjoy live music from Nik Phillips while you dine at The Glen Hotel.
URL:https://www.glenhotel.com.au/live-music-event/nik-phillips/
CATEGORIES:Coastal Grit,Country,Pop Rock
ATTACH;FMTTYPE=image/jpeg:https://www.glenhotel.com.au/wp-content/uploads/2026/04/Profile-Picture-Nik-Phillips-scaled.jpg
END:VEVENT
END:VCALENDAR