BEGIN:VCALENDAR
VERSION:2.0
PRODID:-//The Glen Hotel - ECPv6.15.17.1//NONSGML v1.0//EN
CALSCALE:GREGORIAN
METHOD:PUBLISH
X-ORIGINAL-URL:https://www.glenhotel.com.au
X-WR-CALDESC:Events for The Glen Hotel
REFRESH-INTERVAL;VALUE=DURATION:PT1H
X-Robots-Tag:noindex
X-PUBLISHED-TTL:PT1H
BEGIN:VTIMEZONE
TZID:Australia/Melbourne
BEGIN:STANDARD
TZOFFSETFROM:+1100
TZOFFSETTO:+1000
TZNAME:AEST
DTSTART:20250405T160000
END:STANDARD
BEGIN:DAYLIGHT
TZOFFSETFROM:+1000
TZOFFSETTO:+1100
TZNAME:AEDT
DTSTART:20251004T160000
END:DAYLIGHT
BEGIN:STANDARD
TZOFFSETFROM:+1100
TZOFFSETTO:+1000
TZNAME:AEST
DTSTART:20260404T160000
END:STANDARD
BEGIN:DAYLIGHT
TZOFFSETFROM:+1000
TZOFFSETTO:+1100
TZNAME:AEDT
DTSTART:20261003T160000
END:DAYLIGHT
BEGIN:STANDARD
TZOFFSETFROM:+1100
TZOFFSETTO:+1000
TZNAME:AEST
DTSTART:20270403T160000
END:STANDARD
BEGIN:DAYLIGHT
TZOFFSETFROM:+1000
TZOFFSETTO:+1100
TZNAME:AEDT
DTSTART:20271002T160000
END:DAYLIGHT
END:VTIMEZONE
BEGIN:VTIMEZONE
TZID:Australia/Brisbane
BEGIN:STANDARD
TZOFFSETFROM:+1000
TZOFFSETTO:+1000
TZNAME:AEST
DTSTART:20240101T000000
END:STANDARD
END:VTIMEZONE
BEGIN:VEVENT
DTSTART;TZID=Australia/Melbourne:20260307T140000
DTEND;TZID=Australia/Melbourne:20260307T170000
DTSTAMP:20260423T184230
CREATED:20250226T222332Z
LAST-MODIFIED:20260107T222727Z
UID:10001861-1772892000-1772902800@www.glenhotel.com.au
SUMMARY:Tom Foolery
DESCRIPTION:Tom Foolery are bringing their signature acoustic style to The Deck with a brand new 2pm-5pm set. This Queensland-based duo has been performing together for over 20 years\, and now they’re setting the tone for your perfect arvo catch-up. \n🎸 Miguel brings the rhythm with dynamic percussion\, soulful vocals\, and slick guitar.🎤 Paul adds smooth vocals and expert guitar + mandolin skills — plus a legendary cover of ‘Horses’ that always gets the crowd going. \nTom Foolery’s laid-back setlist hits all the right notes with songs like:🎵 Hey Ya! – Outkast🎵 Call Me Al – Paul Simon🎵 Under the Milky Way – The Church \nWhether you’re sipping cold beers with mates\, grazing your way through an afternoon feast\, or just vibing with the music — no bookings are required. Just roll in\, grab a table\, and settle in. \nAnd don’t go too far… from 9:30pm ‘til late\, our DJ takes over with all your Saturday night dancefloor favourites. \nMore good times await… check out what else is on 🎉
URL:https://www.glenhotel.com.au/live-music-event/tom-foolery/2026-03-07/
CATEGORIES:Classic,Pop
ATTACH;FMTTYPE=image/jpeg:https://www.glenhotel.com.au/wp-content/uploads/2025/02/TomFoolery_image2.jpg
END:VEVENT
BEGIN:VEVENT
DTSTART;TZID=Australia/Melbourne:20260214T203000
DTEND;TZID=Australia/Melbourne:20260214T233000
DTSTAMP:20260423T184230
CREATED:20260127T025357Z
LAST-MODIFIED:20260304T074237Z
UID:10001863-1771101000-1771111800@www.glenhotel.com.au
SUMMARY:Maddi & The Dreamers | Valentine's Set 💘
DESCRIPTION:This Valentine’s Day\, Maddi & The Dreamers are delivering a feel-good\, dancefloor-ready set made for loved-up moments and late-night sing-alongs. Think wedding-reception energy with a Valentine’s twist. \nThe night moves from timeless romance into full celebration mode\, with tracks like Beyond by Leon Bridges and Can’t Take My Eyes Off You setting the mood\, before lifting the room with Your Love (Keeps Lifting Me Higher) and Girl Put Your Records On. Expect hands-in-the-air moments with Sweet Caroline and Walking On Sunshine\, plus heartfelt favourites like Kiss Me and Every Breath You Take woven through the set. \nIt’s the kind of soundtrack that starts with dancing close and ends with everyone on the floor — joyful\, familiar\, and impossible not to sing along to. \nDinner first\, dancing later. Maddi & The Dreamers are bringing the perfect Valentine’s night vibe — warm\, energetic and made to be shared. 🥂💃
URL:https://www.glenhotel.com.au/live-music-event/maddi-the-dreamers-2/
CATEGORIES:Classic,Pop,R&B,Rock
ATTACH;FMTTYPE=image/jpeg:https://www.glenhotel.com.au/wp-content/uploads/2025/06/474795782_122149691906374086_69312568292461010_n.jpg
END:VEVENT
BEGIN:VEVENT
DTSTART;TZID=Australia/Melbourne:20260207T140000
DTEND;TZID=Australia/Melbourne:20260207T170000
DTSTAMP:20260423T184230
CREATED:20250226T222332Z
LAST-MODIFIED:20260107T222727Z
UID:10001860-1770472800-1770483600@www.glenhotel.com.au
SUMMARY:Tom Foolery
DESCRIPTION:Tom Foolery are bringing their signature acoustic style to The Deck with a brand new 2pm-5pm set. This Queensland-based duo has been performing together for over 20 years\, and now they’re setting the tone for your perfect arvo catch-up. \n🎸 Miguel brings the rhythm with dynamic percussion\, soulful vocals\, and slick guitar.🎤 Paul adds smooth vocals and expert guitar + mandolin skills — plus a legendary cover of ‘Horses’ that always gets the crowd going. \nTom Foolery’s laid-back setlist hits all the right notes with songs like:🎵 Hey Ya! – Outkast🎵 Call Me Al – Paul Simon🎵 Under the Milky Way – The Church \nWhether you’re sipping cold beers with mates\, grazing your way through an afternoon feast\, or just vibing with the music — no bookings are required. Just roll in\, grab a table\, and settle in. \nAnd don’t go too far… from 9:30pm ‘til late\, our DJ takes over with all your Saturday night dancefloor favourites. \nMore good times await… check out what else is on 🎉
URL:https://www.glenhotel.com.au/live-music-event/tom-foolery/2026-02-07/
CATEGORIES:Classic,Pop
ATTACH;FMTTYPE=image/jpeg:https://www.glenhotel.com.au/wp-content/uploads/2025/02/TomFoolery_image2.jpg
END:VEVENT
BEGIN:VEVENT
DTSTART;TZID=Australia/Melbourne:20260131T140000
DTEND;TZID=Australia/Melbourne:20260131T170000
DTSTAMP:20260423T184230
CREATED:20250226T222332Z
LAST-MODIFIED:20260107T222727Z
UID:10001859-1769868000-1769878800@www.glenhotel.com.au
SUMMARY:Tom Foolery
DESCRIPTION:Tom Foolery are bringing their signature acoustic style to The Deck with a brand new 2pm-5pm set. This Queensland-based duo has been performing together for over 20 years\, and now they’re setting the tone for your perfect arvo catch-up. \n🎸 Miguel brings the rhythm with dynamic percussion\, soulful vocals\, and slick guitar.🎤 Paul adds smooth vocals and expert guitar + mandolin skills — plus a legendary cover of ‘Horses’ that always gets the crowd going. \nTom Foolery’s laid-back setlist hits all the right notes with songs like:🎵 Hey Ya! – Outkast🎵 Call Me Al – Paul Simon🎵 Under the Milky Way – The Church \nWhether you’re sipping cold beers with mates\, grazing your way through an afternoon feast\, or just vibing with the music — no bookings are required. Just roll in\, grab a table\, and settle in. \nAnd don’t go too far… from 9:30pm ‘til late\, our DJ takes over with all your Saturday night dancefloor favourites. \nMore good times await… check out what else is on 🎉
URL:https://www.glenhotel.com.au/live-music-event/tom-foolery/2026-01-31/
CATEGORIES:Classic,Pop
ATTACH;FMTTYPE=image/jpeg:https://www.glenhotel.com.au/wp-content/uploads/2025/02/TomFoolery_image2.jpg
END:VEVENT
BEGIN:VEVENT
DTSTART;TZID=Australia/Melbourne:20260116T170000
DTEND;TZID=Australia/Melbourne:20260116T210000
DTSTAMP:20260423T184230
CREATED:20250410T225014Z
LAST-MODIFIED:20260304T074217Z
UID:10000957-1768582800-1768597200@www.glenhotel.com.au
SUMMARY:Missy B
DESCRIPTION:Brisbane-based artist Missy B is a chart-topping singer-songwriter and seasoned entertainer\, known for her powerful vocals\, polished performances\, and high-energy sets. With over a decade of experience playing at venues\, weddings\, and major events across Australia\, Missy brings versatility and star quality to every show. \nHer diverse repertoire spans crowd-favourites from Matchbox 20 and Maroon 5 to Katy Perry\, U2\, Bruce Springsteen\, and more\, making her the perfect soundtrack for a laid-back afternoon that turns into a lively night. \nDJ Ant takes over from 9pm ‘til late\, spinning crowd-favourite beats and keeping the party going. \nTable bookings or just walk in\, grab a drink\, and enjoy your Friday night on The Deck. 🍹🎸🔥
URL:https://www.glenhotel.com.au/live-music-event/missy-b/
CATEGORIES:Classic,Pop
ATTACH;FMTTYPE=image/jpeg:https://www.glenhotel.com.au/wp-content/uploads/2025/04/RoosterEntertainment-MissyB2.jpg
END:VEVENT
BEGIN:VEVENT
DTSTART;TZID=Australia/Brisbane:20251130T120000
DTEND;TZID=Australia/Brisbane:20251130T160000
DTSTAMP:20260423T184230
CREATED:20250930T003720Z
LAST-MODIFIED:20260112T223138Z
UID:10001544-1764504000-1764518400@www.glenhotel.com.au
SUMMARY:Randall Purcell
DESCRIPTION:Randall Purcell | Sunday\, 30 November | 12pm–4pm\nSoak up the sunshine this Sunday with the smooth sounds of Randall Purcell. A seasoned solo artist with over 15 years of experience\, Randall has performed everywhere from intimate weddings to packed festivals\, sharing the stage with ARIA Award winners\, international stars\, and comedians along the way. \nWith a repertoire that spans soul\, pop\, RNB\, reggae\, Latin jazz grooves\, rock\, country\, and even today’s Top 40\, Randall’s versatility means there’s something for everyone. His dynamic presence and effortless style make for the perfect Sunday soundtrack — relaxed\, vibrant\, and full of energy. \nPair the music with our $27 All-Day Wood-Fired Pizza Special and explore the full menu here. The perfect Sunday vibe: good food\, great drinks\, and live music on The Deck.
URL:https://www.glenhotel.com.au/live-music-event/randall-purcell/
CATEGORIES:Classic,Pop,R&B,Rock,Top 40
ATTACH;FMTTYPE=image/jpeg:https://www.glenhotel.com.au/wp-content/uploads/2025/09/83268d682a7d411c9d9c8ffdee83a921_320_320.jpg
END:VEVENT
BEGIN:VEVENT
DTSTART;TZID=Australia/Brisbane:20251122T203000
DTEND;TZID=Australia/Brisbane:20251122T233000
DTSTAMP:20260423T184230
CREATED:20250715T001024Z
LAST-MODIFIED:20250715T001024Z
UID:10000956-1763843400-1763854200@www.glenhotel.com.au
SUMMARY:Blonde Chocolate
DESCRIPTION:Get ready for an unforgettable night of music and dancing as Blonde Chocolate takes the stage at The Glen Hotel! \nWith a dynamic lineup featuring both female and male vocals\, guitar\, keyboards\, and percussion\, Blonde Chocolate brings over 60 years of combined experience to deliver a high-energy performance. Their versatile repertoire spans percussive Latin rhythms\, smooth jazz and blues\, and classic rock and disco hits that will have everyone on their feet. \nWhether you’re a fan of Ella Fitzgerald\, The Beatles\, ABBA\, or today’s chart-toppers like Ed Sheeran and Dua Lipa\, there’s something for everyone. Don’t miss this chance to experience one of Brisbane’s most engaging and professional bands live!
URL:https://www.glenhotel.com.au/live-music-event/blonde-chocolate/
CATEGORIES:Classic,Pop
ATTACH;FMTTYPE=image/jpeg:https://www.glenhotel.com.au/wp-content/uploads/2025/07/493291001_1894833848014170_2242143101553442825_n.jpg
END:VEVENT
BEGIN:VEVENT
DTSTART;TZID=Australia/Brisbane:20251005T120000
DTEND;TZID=Australia/Brisbane:20251005T150000
DTSTAMP:20260423T184230
CREATED:20250929T034537Z
LAST-MODIFIED:20260304T070612Z
UID:10001541-1759665600-1759676400@www.glenhotel.com.au
SUMMARY:Shani Ferguson
DESCRIPTION:Shani Ferguson Live on The Deck | Sunday 5th October | 12pm–3pm\nKick off your Sunday with the soulful sounds of Shani Ferguson\, one of Brisbane’s most versatile performers. With sultry vocals\, acoustic guitar\, and a dynamic stage presence\, Shani brings a captivating mix of smooth melodies and powerhouse energy to every set. \nFrom her early days performing with family band The Fergies to appearances at major stages like Bluesfest\, Woodford Folk Festival\, and the Gold Coast Commonwealth Games Opening Ceremony\, Shani’s career highlights speak volumes. Drawing inspiration from Beyoncé\, The Lumineers\, and Ella Fitzgerald\, she blends heartfelt storytelling with timeless style. \nSettle in on The Deck\, enjoy the music\, and roll straight into the NRLW Grand Final live from 3pm on the big screen. The perfect Sunday of live music\, good food\, and footy awaits.
URL:https://www.glenhotel.com.au/live-music-event/shani-ferguson/
CATEGORIES:Indie Pop,Pop,R&B
ATTACH;FMTTYPE=image/jpeg:https://www.glenhotel.com.au/wp-content/uploads/2025/09/SHANI-MIRIAM-qunmvn4dtjmhbbk5v6gjx7j5a2ge2lskdfeddcfzxc.jpg
END:VEVENT
END:VCALENDAR