BEGIN:VCALENDAR
VERSION:2.0
PRODID:-//The Glen Hotel - ECPv6.15.17.1//NONSGML v1.0//EN
CALSCALE:GREGORIAN
METHOD:PUBLISH
X-WR-CALNAME:The Glen Hotel
X-ORIGINAL-URL:https://www.glenhotel.com.au
X-WR-CALDESC:Events for The Glen Hotel
REFRESH-INTERVAL;VALUE=DURATION:PT1H
X-Robots-Tag:noindex
X-PUBLISHED-TTL:PT1H
BEGIN:VTIMEZONE
TZID:Australia/Brisbane
BEGIN:STANDARD
TZOFFSETFROM:+1000
TZOFFSETTO:+1000
TZNAME:AEST
DTSTART:20250101T000000
END:STANDARD
END:VTIMEZONE
BEGIN:VEVENT
DTSTART;TZID=Australia/Brisbane:20260501T220000
DTEND;TZID=Australia/Brisbane:20260501T235900
DTSTAMP:20260420T184129
CREATED:20260311T034553Z
LAST-MODIFIED:20260415T025045Z
UID:10001923-1777672800-1777679940@www.glenhotel.com.au
SUMMARY:Catti
DESCRIPTION:When Catti steps behind the decks\, the vibe changes fast. One minute it’s casual drinks and conversation\, the next the room is suddenly a little louder\, the dance floor is filling up\, and someone nearby is already yelling “this is my song.” \nKnown for sharp\, stylish commercial DJ sets\, Catti has a talent for reading a crowd like a playlist. Big anthems\, polished party tracks and feel-good favourites all make the cut\, the kind of songs that have people pointing at the DJ booth the second the opening notes hit. \nThe real magic is in the timing. Energy builds\, the beat drops\, the chorus lands\, and suddenly the whole room is singing along like it planned it that way. Smooth transitions keep the momentum rolling while the dance floor slowly turns into the busiest spot in the building. \nExpect big vibes\, big singalongs and a Friday night that quietly turns into a bit of a party. \nWant more where that came from? Explore our Live Music Calendar to see which DJs and performers are bringing the energy to The Glen Hotel next 🎧✨
URL:https://www.glenhotel.com.au/live-music-event/catti/
CATEGORIES:DJ
ATTACH;FMTTYPE=image/jpeg:https://www.glenhotel.com.au/wp-content/uploads/2026/03/Profile-Picture-Catti-scaled.jpg
END:VEVENT
END:VCALENDAR